BEGIN:VCALENDAR
VERSION:2.0
PRODID:-//Go Musick - ECPv5.16.4//NONSGML v1.0//EN
CALSCALE:GREGORIAN
METHOD:PUBLISH
X-WR-CALNAME:Go Musick
X-ORIGINAL-URL:https://gomusick.com
X-WR-CALDESC:évènements pour Go Musick
BEGIN:VTIMEZONE
TZID:UTC
BEGIN:STANDARD
TZOFFSETFROM:+0000
TZOFFSETTO:+0000
TZNAME:UTC
DTSTART:20160101T000000
END:STANDARD
END:VTIMEZONE
BEGIN:VEVENT
DTSTART;TZID=UTC:20160922T193000
DTEND;TZID=UTC:20160922T213000
DTSTAMP:20260422T041043
CREATED:20200729T222610Z
LAST-MODIFIED:20200729T222610Z
UID:1168-1474572600-1474579800@gomusick.com
SUMMARY:Abdoulaye Nderguet à l'Institut français du Tchad
DESCRIPTION:Iyalat : Abdoulaye Nderguet en concert pour la réouverture des programmes de l’IFT
URL:https://gomusick.com/agenda/abdoulaye-nderguet-a-linstitut-francais-du-tchad-3/
CATEGORIES:Abdoulaye Nderguet,Spectacle
ATTACH;FMTTYPE=image/png:https://gomusick.com/wp-content/uploads/2020/07/AbdoulayeNderguet_OR.png
END:VEVENT
END:VCALENDAR